Workbook

Sheet 8月高龄津贴
A1: 2026 年8月红塔区发放老年人保健（长寿）补助统计表
A2: 填报单位：红塔区民政局 填报时间：2026年8月12日
A3: 项目 单位 | B3: 80-89周岁 | E3: 90-99周岁 | H3: 100周岁及以上 | M3: 空巢老人 | O3: 失能老人 | Q3: 三无老人 | S3: 五保老人 | U3: 备注
B4: 人数(人) | C4: 发放标准(元/月/人) | D4: 小计金额(元) | E4: 人数(人) | F4: 发放标准(元/月/人) | G4: 小计金额(元) | H4: 人数(人) | I4: 发放标准(元/月/人) | J4: 小计金额(元) | K4: 80岁以上人数(人) | L4: 合计 金额（元） | M4: 人数(人) | N4: 补助资金(元) | O4: 人数(人) | P4: 补助资金(元) | Q4: 人数(人) | R4: 补助资金(元) | S4: 人数(人) | T4: 补助资金(元)
A5: 玉带街道 | B5: =Sheet1!C6+Sheet1!I6 -> 1084 | C5: 50 | D5: =Sheet1!D6+Sheet1!J6 -> 54500 | E5: =Sheet1!E6+Sheet1!K6 -> 132 | F5: 100 | G5: =Sheet1!F6+Sheet1!L6 -> 13200 | H5: =Sheet1!G6+Sheet1!M6 -> 2 | I5: 600 | J5: =H5*600 -> 1200 | K5: =B5+E5+H5 -> 1218 | L5: =D5+G5+J5 -> 68900 | U5: 补发1人应享未享350元
A6: 凤凰街道 | B6: =Sheet1!C7+Sheet1!I7 -> 1827 | C6: 50 | D6: =Sheet1!D7+Sheet1!J7 -> 95750 | E6: =Sheet1!E7+Sheet1!K7 -> 268 | F6: 100 | G6: =Sheet1!F7+Sheet1!L7 -> 26800 | H6: =Sheet1!G7+Sheet1!M7 -> 2 | I6: 600 | J6: =H6*600 -> 1200 | K6: =B6+E6+H6 -> 2097 | L6: =D6+G6+J6 -> 123750 | U6: 补发35人应享未享6150元
A7: 大营街 街道 | B7: =Sheet1!C8+Sheet1!I8 -> 1586 | C7: 50 | D7: =Sheet1!D8+Sheet1!J8 -> 80550 | E7: =Sheet1!E8+Sheet1!K8 -> 192 | F7: 100 | G7: =Sheet1!F8+Sheet1!L8 -> 19200 | H7: =Sheet1!G8+Sheet1!M8 -> 2 | I7: 600 | J7: =H7*600 -> 1200 | K7: =B7+E7+H7 -> 1780 | L7: =D7+G7+J7 -> 100950 | U7: 补发8人应享未享1650元
A8: 高仓街道 | B8: =Sheet1!C9+Sheet1!I9 -> 724 | C8: 50 | D8: =Sheet1!D9+Sheet1!J9 -> 36200 | E8: =Sheet1!E9+Sheet1!K9 -> 83 | F8: 100 | G8: =Sheet1!F9+Sheet1!L9 -> 8300 | H8: =Sheet1!G9+Sheet1!M9 -> 1 | I8: 600 | J8: =H8*600 -> 600 | K8: =B8+E8+H8 -> 808 | L8: =D8+G8+J8 -> 45100
A9: 春和街道 | B9: =Sheet1!C10+Sheet1!I10 -> 1837 | C9: 50 | D9: =Sheet1!D10+Sheet1!J10 -> 92750 | E9: =Sheet1!E10+Sheet1!K10 -> 218 | F9: 100 | G9: =Sheet1!F10+Sheet1!L10 -> 21800 | H9: =Sheet1!G10+Sheet1!M10 -> 0 | I9: 600 | J9: =H9*600 -> 0 | K9: =B9+E9+H9 -> 2055 | L9: =D9+G9+J9 -> 114550 | U9: 补发4人应享未享1100元
A10: 北城街道 | B10: =Sheet1!C11+Sheet1!I11 -> 1937 | C10: 50 | D10: =Sheet1!D11+Sheet1!J11 -> 96850 | E10: =Sheet1!E11+Sheet1!K11 -> 242 | F10: 100 | G10: =Sheet1!F11+Sheet1!L11 -> 24200 | H10: =Sheet1!G11+Sheet1!M11 -> 7 | I10: 600 | J10: =H10*600 -> 4200 | K10: =B10+E10+H10 -> 2186 | L10: =D10+G10+J10 -> 125250
A11: 洛河乡 | B11: =Sheet1!C12+Sheet1!I12 -> 235 | C11: 50 | D11: =Sheet1!D12+Sheet1!J12 -> 11750 | E11: =Sheet1!E12+Sheet1!K12 -> 34 | F11: 100 | G11: =Sheet1!F12+Sheet1!L12 -> 3400 | H11: =Sheet1!G12+Sheet1!M12 -> 0 | I11: 600 | J11: =H11*600 -> 0 | K11: =B11+E11+H11 -> 269 | L11: =D11+G11+J11 -> 15150
A12: 小石桥乡 | B12: =Sheet1!C13+Sheet1!I13 -> 175 | C12: 50 | D12: =Sheet1!D13+Sheet1!J13 -> 8750 | E12: =Sheet1!E13+Sheet1!K13 -> 30 | F12: 100 | G12: =Sheet1!F13+Sheet1!L13 -> 3000 | H12: =Sheet1!G13+Sheet1!M13 -> 0 | I12: 600 | J12: =H12*600 -> 0 | K12: =B12+E12+H12 -> 205 | L12: =D12+G12+J12 -> 11750
A13: 玉兴街道 | B13: =Sheet1!C14+Sheet1!I14 -> 2170 | C13: 50 | D13: =Sheet1!D14+Sheet1!J14 -> 110500 | E13: =Sheet1!E14+Sheet1!K14 -> 405 | F13: 100 | G13: =Sheet1!F14+Sheet1!L14 -> 41700 | H13: =Sheet1!G14+Sheet1!M14 -> 8 | I13: 600 | J13: =H13*600 -> 4800 | K13: =B13+E13+H13 -> 2583 | L13: =D13+G13+J13 -> 157000 | U13: 补发40人应享未享5300元
A14: 研和街道 | B14: =Sheet1!C15+Sheet1!I15 -> 1731 | C14: 50 | D14: =Sheet1!D15+Sheet1!J15 -> 87150 | E14: =Sheet1!E15+Sheet1!K15 -> 259 | F14: 100 | G14: =Sheet1!F15+Sheet1!L15 -> 25900 | H14: =Sheet1!G15+Sheet1!M15 -> 3 | I14: 600 | J14: =H14*600 -> 1800 | K14: =B14+E14+H14 -> 1993 | L14: =D14+G14+J14 -> 114850 | U14: 补发2人应享未享700元
A15: 李棋街道 | B15: =Sheet1!C16+Sheet1!I16 -> 1175 | C15: 50 | D15: =Sheet1!D16+Sheet1!J16 -> 59800 | E15: =Sheet1!E16+Sheet1!K16 -> 176 | F15: 100 | G15: =Sheet1!F16+Sheet1!L16 -> 17600 | H15: =Sheet1!G16+Sheet1!M16 -> 1 | I15: 600 | J15: =H15*600 -> 600 | K15: =B15+E15+H15 -> 1352 | L15: =D15+G15+J15 -> 78000 | U15: 补发5人应享未享900元，补发4人未及时提档差额600元
A16: 区疾控 | B16: =Sheet1!C17+Sheet1!I17 -> 6 | C16: 50 | D16: =Sheet1!D17+Sheet1!J17 -> 300 | E16: =Sheet1!E17+Sheet1!K17 -> 0 | F16: 0 | G16: =Sheet1!F17+Sheet1!L17 -> 0 | H16: =Sheet1!G17+Sheet1!M17 -> 0 | I16: 600 | J16: =H16*600 -> 0 | K16: =B16+E16+H16 -> 6 | L16: =D16+G16+J16 -> 300
A17: 合 计 | B17: =Sheet1!C18+Sheet1!I18 -> 14487 | C17: 50 | D17: =Sheet1!D18+Sheet1!J18 -> 734850 | E17: =Sheet1!E18+Sheet1!K18 -> 2039 | F17: 100 | G17: =Sheet1!F18+Sheet1!L18 -> 205100 | H17: =Sheet1!G18+Sheet1!M18 -> 26 | I17: 600 | J17: =H17*600 -> 15600 | K17: =B17+E17+H17 -> 16552 | L17: =D17+G17+J17 -> 955550

Sheet Sheet1
A1: 红塔区民政局 2026 年8月80岁及以上老年人高龄津贴“一卡通”汇总表
B2: 单位：红塔区民政局 | P2: 日期：2026年8月12日
A3: 序号 | B3: 乡（街道） | C3: 无退休金高 龄 老 人 数 （人） | I3: 有 退 休 金 高 龄 老 人 数 （人） | O3: 总人数（人） | P3: 总发放金额（元） | Q3: 备注
C4: 80-89周岁 | E4: 90-99周岁 | G4: 100周岁以上 | I4: 80-89周岁 | K4: 90-99周岁 | M4: 100周岁以上
C5: 人数（人） | D5: 发放金额（元） | E5: 人数（人） | F5: 发放金额（元） | G5: 人数 （人） | H5: 发放金额（元） | I5: 人数（人） | J5: 发放金额（元） | K5: 人数（人） | L5: 发放金额（元） | M5: 人数（人） | N5: 发放金额（元）
A6: 1 | B6: 玉带 | C6: 565 | D6: =C6*50 -> 28250 | E6: 68 | F6: =E6*100 -> 6800 | G6: 1 | H6: =G6*600 -> 600 | I6: 519 | J6: 26250 | K6: 64 | L6: =K6*100 -> 6400 | M6: 1 | N6: =M6*600 -> 600 | O6: =C6+E6+G6+I6+K6+M6 -> 1218 | P6: =D6+F6+H6+J6+L6+N6 -> 68900 | Q6: 补发1人应享未享350元
A7: 2 | B7: 凤凰 | C7: 328 | D7: 17000 | E7: 50 | F7: =E7*100 -> 5000 | G7: 1 | H7: =G7*600 -> 600 | I7: 1499 | J7: 78750 | K7: 218 | L7: =K7*100 -> 21800 | M7: 1 | N7: 600 | O7: =C7+E7+G7+I7+K7+M7 -> 2097 | P7: =D7+F7+H7+J7+L7+N7 -> 123750 | Q7: 补发35人应享未享6150元
A8: 3 | B8: 大营街 | C8: 1381 | D8: 69400 | E8: 169 | F8: 16900 | G8: 2 | H8: =G8*600 -> 1200 | I8: 205 | J8: 11150 | K8: 23 | L8: =K8*100 -> 2300 | M8: 0 | N8: =M8*600 -> 0 | O8: =C8+E8+G8+I8+K8+M8 -> 1780 | P8: =D8+F8+H8+J8+L8+N8 -> 100950 | Q8: 补发8人应享未享1650元
A9: 4 | B9: 高仓 | C9: 659 | D9: =C9*50 -> 32950 | E9: 73 | F9: =E9*100 -> 7300 | G9: 1 | H9: =G9*600 -> 600 | I9: 65 | J9: =I9*50 -> 3250 | K9: 10 | L9: =K9*100 -> 1000 | M9: 0 | N9: =M9*600 -> 0 | O9: =C9+E9+G9+I9+K9+M9 -> 808 | P9: =D9+F9+H9+J9+L9+N9 -> 45100
A10: 5 | B10: 春和 | C10: 1653 | D10: 83550 | E10: 190 | F10: =E10*100 -> 19000 | G10: 0 | H10: =G10*600 -> 0 | I10: 184 | J10: =I10*50 -> 9200 | K10: 28 | L10: =K10*100 -> 2800 | M10: 0 | N10: =M10*600 -> 0 | O10: =C10+E10+G10+I10+K10+M10 -> 2055 | P10: =D10+F10+H10+J10+L10+N10 -> 114550 | Q10: 补发4人应享未享1100元
A11: 6 | B11: 北城 | C11: 1696 | D11: 84800 | E11: 218 | F11: =E11*100 -> 21800 | G11: 4 | H11: =G11*600 -> 2400 | I11: 241 | J11: =I11*50 -> 12050 | K11: 24 | L11: =K11*100 -> 2400 | M11: 3 | N11: =M11*600 -> 1800 | O11: =C11+E11+G11+I11+K11+M11 -> 2186 | P11: =D11+F11+H11+J11+L11+N11 -> 125250
A12: 7 | B12: 洛河乡 | C12: 227 | D12: =C12*50 -> 11350 | E12: 33 | F12: =E12*100 -> 3300 | G12: 0 | H12: =G12*600 -> 0 | I12: 8 | J12: =I12*50 -> 400 | K12: 1 | L12: =K12*100 -> 100 | M12: 0 | N12: =M12*600 -> 0 | O12: =C12+E12+G12+I12+K12+M12 -> 269 | P12: =D12+F12+H12+J12+L12+N12 -> 15150
A13: 8 | B13: 小石桥乡 | C13: 173 | D13: =C13*50 -> 8650 | E13: 29 | F13: =E13*100 -> 2900 | G13: 0 | H13: =G13*600 -> 0 | I13: 2 | J13: =I13*50 -> 100 | K13: 1 | L13: =K13*100 -> 100 | M13: 0 | N13: =M13*600 -> 0 | O13: =C13+E13+G13+I13+K13+M13 -> 205 | P13: =D13+F13+H13+J13+L13+N13 -> 11750
A14: 9 | B14: 玉兴 | C14: 495 | D14: 24750 | E14: 70 | F14: =E14*100 -> 7000 | G14: 2 | H14: =G14*600 -> 1200 | I14: 1675 | J14: 85750 | K14: 335 | L14: 34700 | M14: 6 | N14: =M14*600 -> 3600 | O14: =C14+E14+G14+I14+K14+M14 -> 2583 | P14: =D14+F14+H14+J14+L14+N14 -> 157000 | Q14: 补发40人应享未享5300元
A15: 10 | B15: 研和 | C15: 1570 | D15: 78800 | E15: 207 | F15: =E15*100 -> 20700 | G15: 3 | H15: =G15*600 -> 1800 | I15: 161 | J15: 8350 | K15: 52 | L15: =K15*100 -> 5200 | M15: 0 | N15: =M15*600 -> 0 | O15: =C15+E15+G15+I15+K15+M15 -> 1993 | P15: =D15+F15+H15+J15+L15+N15 -> 114850 | Q15: 补发2人应享未享700元
A16: 11 | B16: 李棋 | C16: 850 | D16: 42500 | E16: 127 | F16: =E16*100 -> 12700 | G16: 1 | H16: 600 | I16: 325 | J16: 17300 | K16: 49 | L16: =K16*100 -> 4900 | M16: 0 | N16: =M16*600 -> 0 | O16: =C16+E16+G16+I16+K16+M16 -> 1352 | P16: =D16+F16+H16+J16+L16+N16 -> 78000 | Q16: 补发5人应享未享900元，补发4人未及时提档差额600元
A17: 12 | B17: 区疾控 | C17: 6 | D17: =C17*50 -> 300 | E17: 0 | F17: =E17*100 -> 0 | G17: 0 | H17: =G17*600 -> 0 | I17: 0 | J17: =I17*50 -> 0 | K17: 0 | L17: =K17*100 -> 0 | M17: 0 | N17: =M17*600 -> 0 | O17: =C17+E17+G17+I17+K17+M17 -> 6 | P17: =D17+F17+H17+J17+L17+N17 -> 300
A18: 总 计 | C18: =SUM(C6:C17) -> 9603 | D18: =SUM(D6:D17) -> 482300 | E18: =SUM(E6:E17) -> 1234 | F18: =SUM(F6:F17) -> 123400 | G18: =SUM(G6:G17) -> 15 | H18: =SUM(H6:H17) -> 9000 | I18: =SUM(I6:I17) -> 4884 | J18: =SUM(J6:J17) -> 252550 | ... P18: =SUM(P6:P17) -> 955550
